Workbook

Sheet CÁLCULO GLOBAL
D1: CÁLCULO GLOBAL PARAMÉTRICO DE TANQUE
B6: CÁLCULO DE VIROLAS
B8: Datos de entrada | G8: Dimensionamiento de Virolas | O8: Ratio de tensiones
B9: Análisis de volumen | C9: Símbolo | D9: Valor | E9: Unidades (API650) | G9: Parámetro | I9: Símbolo | K9: Valor | M9: Unidades (API650) | O9: NºVirola | P9: t(mm) | Q9: Sd | R9: ratio | S9: St | T9: ratio
O10: 1 | P10: =I47 -> 6 | Q10: =((((4.9*$D$20)*(I17-0.3)*$D$63))/(P10-$D$27)) -> 51.156 | R10: =Q10/$D$40 -> 0.319725 | S10: =((4.9*$D$20)*(I31-0.3))/P10 -> 42.63 | T10: =S10/$D$41 -> 0.24929825
B11: Volumen requerido | C11: Vreq | D11: 225 | E11: m3 | G11: Virolas necesarias | I11: nºvirolas por cálculo | K11: =(D21*1000)/D26 -> 3 | O11: 2 | P11: =IF(G18<=(ROUNDUP($K$11,0)),I48,0) -> 6 | Q11: =IF(G18<=(ROUNDUP($K$11,0)),((((4.9*$D$20)*(I18-0.3)*$D$63))/(P11-$D$27)),0) -> 33.516 | R11: =Q11/$D$40 -> 0.209475 | S11: =IF(G18<=(ROUNDUP($K$11,0)),((4.9*$D$20)*(I32-0.3))/P11,0) -> 27.93 | T11: =S11/$D$41 -> 0.16333333
B12: Factor de seguridad por volumen | C12: Fvol | D12: 0.1 | E12: % | I12: nºvirolas tamaño estándar | K12: =ROUNDDOWN(K11,0) -> 3 | O12: 3 | P12: =IF(G19<=(ROUNDUP($K$11,0)),I49,0) -> 6 | Q12: =IF(G19<=(ROUNDUP($K$11,0)),((((4.9*$D$20)*(I19-0.3)*$D$63))/(P12-$D$27)),0) -> 15.876 | R12: =Q12/$D$40 -> 0.099225 | S12: =IF(G19<=(ROUNDUP($K$11,0)),((4.9*$D$20)*(I33-0.3))/P12,0) -> 13.23 | T12: =S12/$D$41 -> 0.077368421
B13: Volumen de diseño | C13: Vd | D13: =(D11*D12)+D11 -> 247.5 | E13: m3 | I13: tamaño virola inferior | K13: =IF(AND((K11-K12)*D26<1800,(K11-K12)*D26>0),"NO CUMPLE TAMAÑO MÍNIMO",IF((K11-K12)*D26=0,"IGUAL QUE EL RESTO",(K11-K12)*D26)) -> IGUAL QUE EL RESTO | M13: mm | O13: 4 | P13: =IF(G20<=(ROUNDUP($K$11,0)),I50,0) -> 0 | Q13: =IF(G20<=(ROUNDUP($K$11,0)),((((4.9*$D$20)*(I20-0.3)*$D$63))/(P13-$D$27)),0) -> 0 | R13: =Q13/$D$40 -> 0 | S13: =IF(G20<=(ROUNDUP($K$11,0)),((4.9*$D$20)*(I34-0.3))/P13,0) -> 0 | T13: =S13/$D$41 -> 0
B14: Relación de dimensión altura/diámetro | C14: H/D | D14: 1.5 | E14: m | G14: El cálculo es correcto? | I14: =IF(SUM(H17:H28)/1000=D21,"DIVISIÓN CORRECTA","REVISA LAS VIROLAS") -> DIVISIÓN CORRECTA | O14: 5 | P14: =IF(G21<=(ROUNDUP($K$11,0)),I51,0) -> 0 | Q14: =IF(G21<=(ROUNDUP($K$11,0)),((((4.9*$D$20)*(I21-0.3)*$D$63))/(P14-$D$27)),0) -> 0 | R14: =Q14/$D$40 -> 0 | S14: =IF(G21<=(ROUNDUP($K$11,0)),((4.9*$D$20)*(I35-0.3))/P14,0) -> 0 | T14: =S14/$D$41 -> 0
B15: Diámetro requerido | C15: Dreq | D15: =((D13*4)/(D14*PI()))^(1/3) -> 5.9447193 | E15: m | G15: Espesor virolas por Product Design | O15: 6 | P15: =IF(G22<=(ROUNDUP($K$11,0)),I52,0) -> 0 | Q15: =IF(G22<=(ROUNDUP($K$11,0)),((((4.9*$D$20)*(I22-0.3)*$D$63))/(P15-$D$27)),0) -> 0 | R15: =Q15/$D$40 -> 0 | S15: =IF(G22<=(ROUNDUP($K$11,0)),((4.9*$D$20)*(I36-0.3))/P15,0) -> 0 | T15: =S15/$D$41 -> 0
B16: Altura requerida | C16: Hreq | D16: =D15*D14 -> 8.917079 | E16: m | G16: NºVirola | H16: H virola(mm) | I16: H(m) | J16: td (mm) | K16: t mín(mm) | L16: Verificar | M16: td(mm) | O16: 7 | P16: =IF(G23<=(ROUNDUP($K$11,0)),I53,0) -> 0 | Q16: =IF(G23<=(ROUNDUP($K$11,0)),((((4.9*$D$20)*(I23-0.3)*$D$63))/(P16-$D$27)),0) -> 0 | R16: =Q16/$D$40 -> 0 | S16: =IF(G23<=(ROUNDUP($K$11,0)),((4.9*$D$20)*(I37-0.3))/P16,0) -> 0 | T16: =S16/$D$41 -> 0
G17: 1 | H17: =IF(K13="IGUAL QUE EL RESTO",D26,K13) -> 3000 | I17: =D21 -> 9 | J17: =((((4.9*$D$20)*(I17-0.3)*$D$63))/$D$40)+$D$27 -> 2.598625 | K17: =$D$25+$D$27 -> 6 | L17: =IF(J17>K17,"OK","TOMAR MÍNIMO") -> TOMAR MÍNIMO | M17: =IF(L17="OK",J17,K17) -> 6 | O17: 8 | P17: =IF(G24<=(ROUNDUP($K$11,0)),I54,0) -> 0 | Q17: =IF(G24<=(ROUNDUP($K$11,0)),((((4.9*$D$20)*(I24-0.3)*$D$63))/(P17-$D$27)),0) -> 0 | R17: =Q17/$D$40 -> 0 | S17: =IF(G24<=(ROUNDUP($K$11,0)),((4.9*$D$20)*(I38-0.3))/P17,0) -> 0 | T17: =S17/$D$41 -> 0
B18: Parámetros Geométricos | C18: Símbolo | D18: Valor | E18: Unidades (API650) | G18: 2 | H18: =IF(G18<=(ROUNDUP($K$11,0)),$D$26,0) -> 3000 | I18: =IF(G18<=(ROUNDUP($K$11,0)),I17-(H17/1000),0) -> 6 | J18: =IF(G18<=(ROUNDUP($K$11,0)),((((4.9*$D$20)*(I18-0.3)*$D$63))/$D$40)+$D$27,0) -> 2.047375 | K18: =IF(G18<=(ROUNDUP($K$11,0)),$D$25+$D$27,0) -> 6 | L18: =IF(G18<=(ROUNDUP($K$11,0)),IF(J18>K18,"OK","TOMAR MÍNIMO"),0) -> TOMAR MÍNIMO | M18: =IF(L18="OK",J18,K18) -> 6 | O18: 9 | P18: =IF(G25<=(ROUNDUP($K$11,0)),I55,0) -> 0 | Q18: =IF(G25<=(ROUNDUP($K$11,0)),((((4.9*$D$20)*(I25-0.3)*$D$63))/(P18-$D$27)),0) -> 0 | R18: =Q18/$D$40 -> 0 | S18: =IF(G25<=(ROUNDUP($K$11,0)),((4.9*$D$20)*(I39-0.3))/P18,0) -> 0 | T18: =S18/$D$41 -> 0
G19: 3 | H19: =IF(G19<=(ROUNDUP($K$11,0)),$D$26,0) -> 3000 | I19: =IF(G19<=(ROUNDUP($K$11,0)),I18-(H18/1000),0) -> 3 | J19: =IF(G19<=(ROUNDUP($K$11,0)),((((4.9*$D$20)*(I19-0.3)*$D$63))/$D$40)+$D$27,0) -> 1.496125 | K19: =IF(G19<=(ROUNDUP($K$11,0)),$D$25+$D$27,0) -> 6 | L19: =IF(G19<=(ROUNDUP($K$11,0)),IF(J19>K19,"OK","TOMAR MÍNIMO"),0) -> TOMAR MÍNIMO | M19: =IF(L19="OK",J19,K19) -> 6 | O19: 10 | P19: =IF(G26<=(ROUNDUP($K$11,0)),I56,0) -> 0 | Q19: =IF(G26<=(ROUNDUP($K$11,0)),((((4.9*$D$20)*(I26-0.3)*$D$63))/(P19-$D$27)),0) -> 0 | R19: =Q19/$D$40 -> 0 | S19: =IF(G26<=(ROUNDUP($K$11,0)),((4.9*$D$20)*(I40-0.3))/P19,0) -> 0 | T19: =S19/$D$41 -> 0
B20: Diámetro del tanque | C20: D | D20: =D21/D14 -> 6 | E20: m | G20: 4 | H20: =IF(G20<=(ROUNDUP($K$11,0)),$D$26,0) -> 0 | I20: =IF(G20<=(ROUNDUP($K$11,0)),I19-(H19/1000),0) -> 0 | J20: =IF(G20<=(ROUNDUP($K$11,0)),((((4.9*$D$20)*(I20-0.3)*$D$63))/$D$40)+$D$27,0) -> 0 | K20: =IF(G20<=(ROUNDUP($K$11,0)),$D$25+$D$27,0) -> 0 | L20: =IF(G20<=(ROUNDUP($K$11,0)),IF(J20>K20,"OK","TOMAR MÍNIMO"),0) -> 0 | M20: =IF(L20="OK",J20,K20) -> 0 | O20: 11 | P20: =IF(G27<=(ROUNDUP($K$11,0)),I57,0) -> 0 | Q20: =IF(G27<=(ROUNDUP($K$11,0)),((((4.9*$D$20)*(I27-0.3)*$D$63))/(P20-$D$27)),0) -> 0 | R20: =Q20/$D$40 -> 0 | S20: =IF(G27<=(ROUNDUP($K$11,0)),((4.9*$D$20)*(I41-0.3))/P20,0) -> 0 | T20: =S20/$D$41 -> 0
B21: Altura de la envolvente | C21: H | D21: 9 | E21: m | G21: 5 | H21: =IF(G21<=(ROUNDUP($K$11,0)),$D$26,0) -> 0 | I21: =IF(G21<=(ROUNDUP($K$11,0)),I20-(H20/1000),0) -> 0 | J21: =IF(G21<=(ROUNDUP($K$11,0)),((((4.9*$D$20)*(I21-0.3)*$D$63))/$D$40)+$D$27,0) -> 0 | K21: =IF(G21<=(ROUNDUP($K$11,0)),$D$25+$D$27,0) -> 0 | L21: =IF(G21<=(ROUNDUP($K$11,0)),IF(J21>K21,"OK","TOMAR MÍNIMO"),0) -> 0 | M21: =IF(L21="OK",J21,K21) -> 0 | O21: 12 | P21: =IF(G28<=(ROUNDUP($K$11,0)),I58,0) -> 0 | Q21: =IF(G28<=(ROUNDUP($K$11,0)),((((4.9*$D$20)*(I28-0.3)*$D$63))/(P21-$D$27)),0) -> 0 | R21: =Q21/$D$40 -> 0 | S21: =IF(G28<=(ROUNDUP($K$11,0)),((4.9*$D$20)*(I42-0.3))/P21,0) -> 0 | T21: =S21/$D$41 -> 0
B22: Volumen del tanque | C22: V | D22: =(PI()*D21*(D20^2))/4 -> 254.469 | E22: m3 | G22: 6 | H22: =IF(G22<=(ROUNDUP($K$11,0)),$D$26,0) -> 0 | I22: =IF(G22<=(ROUNDUP($K$11,0)),I21-(H21/1000),0) -> 0 | J22: =IF(G22<=(ROUNDUP($K$11,0)),((((4.9*$D$20)*(I22-0.3)*$D$63))/$D$40)+$D$27,0) -> 0 | K22: =IF(G22<=(ROUNDUP($K$11,0)),$D$25+$D$27,0) -> 0 | L22: =IF(G22<=(ROUNDUP($K$11,0)),IF(J22>K22,"OK","TOMAR MÍNIMO"),0) -> 0 | M22: =IF(L22="OK",J22,K22) -> 0
B23: Altura de carga del fluido | C23: Hcar | D23: =(D11*4)/(PI()*(D20^2)) -> 7.9577472 | E23: m | G23: 7 | H23: =IF(G23<=(ROUNDUP($K$11,0)),$D$26,0) -> 0 | I23: =IF(G23<=(ROUNDUP($K$11,0)),I22-(H22/1000),0) -> 0 | J23: =IF(G23<=(ROUNDUP($K$11,0)),((((4.9*$D$20)*(I23-0.3)*$D$63))/$D$40)+$D$27,0) -> 0 | K23: =IF(G23<=(ROUNDUP($K$11,0)),$D$25+$D$27,0) -> 0 | L23: =IF(G23<=(ROUNDUP($K$11,0)),IF(J23>K23,"OK","TOMAR MÍNIMO"),0) -> 0 | M23: =IF(L23="OK",J23,K23) -> 0
B24: Altura libre del tanque | C24: Hlib | D24: =D21-D23 -> 1.0422528 | E24: m | G24: 8 | H24: =IF(G24<=(ROUNDUP($K$11,0)),$D$26,0) -> 0 | I24: =IF(G24<=(ROUNDUP($K$11,0)),I23-(H23/1000),0) -> 0 | J24: =IF(G24<=(ROUNDUP($K$11,0)),((((4.9*$D$20)*(I24-0.3)*$D$63))/$D$40)+$D$27,0) -> 0 | K24: =IF(G24<=(ROUNDUP($K$11,0)),$D$25+$D$27,0) -> 0 | L24: =IF(G24<=(ROUNDUP($K$11,0)),IF(J24>K24,"OK","TOMAR MÍNIMO"),0) -> 0 | M24: =IF(L24="OK",J24,K24) -> 0
B25: Espesor de virola mínimo | C25: tmin | D25: =IF(D20<15,5,IF(D20<=36,6,IF(D20<=60,8,IF(D20>60,10,"error")))) -> 5 | E25: mm | G25: 9 | H25: =IF(G25<=(ROUNDUP($K$11,0)),$D$26,0) -> 0 | I25: =IF(G25<=(ROUNDUP($K$11,0)),I24-(H24/1000),0) -> 0 | J25: =IF(G25<=(ROUNDUP($K$11,0)),((((4.9*$D$20)*(I25-0.3)*$D$63))/$D$40)+$D$27,0) -> 0 | K25: =IF(G25<=(ROUNDUP($K$11,0)),$D$25+$D$27,0) -> 0 | L25: =IF(G25<=(ROUNDUP($K$11,0)),IF(J25>K25,"OK","TOMAR MÍNIMO"),0) -> 0 | M25: =IF(L25="OK",J25,K25) -> 0 | O25: EL TANQUE TENDRÁ UN VOLUMEN DE
B26: Altura de la virola superior | C26: h | D26: 3000 | E26: mm | G26: 10 | H26: =IF(G26<=(ROUNDUP($K$11,0)),$D$26,0) -> 0 | I26: =IF(G26<=(ROUNDUP($K$11,0)),I25-(H25/1000),0) -> 0 | J26: =IF(G26<=(ROUNDUP($K$11,0)),((((4.9*$D$20)*(I26-0.3)*$D$63))/$D$40)+$D$27,0) -> 0 | K26: =IF(G26<=(ROUNDUP($K$11,0)),$D$25+$D$27,0) -> 0 | L26: =IF(G26<=(ROUNDUP($K$11,0)),IF(J26>K26,"OK","TOMAR MÍNIMO"),0) -> 0 | M26: =IF(L26="OK",J26,K26) -> 0
B27: Corrosión Admisible | C27: CA | D27: 1 | E27: mm | G27: 11 | H27: =IF(G27<=(ROUNDUP($K$11,0)),$D$26,0) -> 0 | I27: =IF(G27<=(ROUNDUP($K$11,0)),I26-(H26/1000),0) -> 0 | J27: =IF(G27<=(ROUNDUP($K$11,0)),((((4.9*$D$20)*(I27-0.3)*$D$63))/$D$40)+$D$27,0) -> 0 | K27: =IF(G27<=(ROUNDUP($K$11,0)),$D$25+$D$27,0) -> 0 | L27: =IF(G27<=(ROUNDUP($K$11,0)),IF(J27>K27,"OK","TOMAR MÍNIMO"),0) -> 0 | M27: =IF(L27="OK",J27,K27) -> 0
B28: Ángulo del techo | C28: θ | D28: 9.5 | E28: º | G28: 12 | H28: =IF(G28<=(ROUNDUP($K$11,0)),$D$26,0) -> 0 | I28: =IF(G28<=(ROUNDUP($K$11,0)),I27-(H27/1000),0) -> 0 | J28: =IF(G28<=(ROUNDUP($K$11,0)),((((4.9*$D$20)*(I28-0.3)*$D$63))/$D$40)+$D$27,0) -> 0 | K28: =IF(G28<=(ROUNDUP($K$11,0)),$D$25+$D$27,0) -> 0 | L28: =IF(G28<=(ROUNDUP($K$11,0)),IF(J28>K28,"OK","TOMAR MÍNIMO"),0) -> 0 | M28: =IF(L28="OK",J28,K28) -> 0
B29: Ángulo del techo | C29: θ | D29: =RADIANS(D28) -> 0.16580628 | E29: rad | G29: Espesor de virola por Hydrostatic Test | O29: =PI()*((D20/2)^2)*D21 -> 254.469 | P29: m3 | S29: =O29*1000 -> 254469 | T29: litros
B30: Altura de la virola superior | C30: Hvs | D30: 3 | E30: m | G30: NºVirola | H30: H virola(mm) | I30: H(m) | J30: tt (mm) | K30: t mín(mm) | L30: Verificar | M30: td(mm)
B31: Espesor supuesto de las chapas del techo para cálculo | C31: tr | D31: 13 | E31: mm | G31: 1 | H31: =IF(K13="IGUAL QUE EL RESTO",D26,K13) -> 3000 | I31: =D21 -> 9 | J31: =((4.9*$D$20)*(I31-0.3))/$D$41 -> 1.4957895 | K31: =$D$25+$D$27 -> 6 | L31: =IF(J31>K31,"OK","TOMAR MÍNIMO") -> TOMAR MÍNIMO | M31: =IF(L31="OK",J31,K31) -> 6 | O31: Peso del contenido | Q31: =O29*D64 -> 2488851.9 | R31: N
B32: Tipo de sujeción | C32: Autoanclado | G32: 2 | H32: =IF(G18<=(ROUNDUP($K$11,0)),$D$26,0) -> 3000 | I32: =IF(G18<=(ROUNDUP($K$11,0)),I17-(H17/1000),0) -> 6 | J32: =IF(G18<=(ROUNDUP($K$11,0)),((4.9*$D$20)*(I32-0.3))/$D$41,0) -> 0.98 | K32: =IF(G18<=(ROUNDUP($K$11,0)),$D$25+$D$27,0) -> 6 | L32: =IF(G18<=(ROUNDUP($K$11,0)),IF(J32>K32,"OK","TOMAR MÍNIMO"),0) -> TOMAR MÍNIMO | M32: =IF(L32="OK",J32,K32) -> 6
G33: 3 | H33: =IF(G19<=(ROUNDUP($K$11,0)),$D$26,0) -> 3000 | I33: =IF(G19<=(ROUNDUP($K$11,0)),I18-(H18/1000),0) -> 3 | J33: =IF(G19<=(ROUNDUP($K$11,0)),((4.9*$D$20)*(I33-0.3))/$D$41,0) -> 0.46421053 | K33: =IF(G19<=(ROUNDUP($K$11,0)),$D$25+$D$27,0) -> 6 | L33: =IF(G19<=(ROUNDUP($K$11,0)),IF(J33>K33,"OK","TOMAR MÍNIMO"),0) -> TOMAR MÍNIMO | M33: =IF(L33="OK",J33,K33) -> 6
B34: Parámetros Físicos | C34: Símbolo | D34: Valor | E34: Unidades (API650) | G34: 4 | H34: =IF(G20<=(ROUNDUP($K$11,0)),$D$26,0) -> 0 | I34: =IF(G20<=(ROUNDUP($K$11,0)),I19-(H19/1000),0) -> 0 | J34: =IF(G20<=(ROUNDUP($K$11,0)),((4.9*$D$20)*(I34-0.3))/$D$41,0) -> 0 | K34: =IF(G20<=(ROUNDUP($K$11,0)),$D$25+$D$27,0) -> 0 | L34: =IF(G20<=(ROUNDUP($K$11,0)),IF(J34>K34,"OK","TOMAR MÍNIMO"),0) -> 0 | M34: =IF(L34="OK",J34,K34) -> 0
G35: 5 | H35: =IF(G21<=(ROUNDUP($K$11,0)),$D$26,0) -> 0 | I35: =IF(G21<=(ROUNDUP($K$11,0)),I20-(H20/1000),0) -> 0 | J35: =IF(G21<=(ROUNDUP($K$11,0)),((4.9*$D$20)*(I35-0.3))/$D$41,0) -> 0 | K35: =IF(G21<=(ROUNDUP($K$11,0)),$D$25+$D$27,0) -> 0 | L35: =IF(G21<=(ROUNDUP($K$11,0)),IF(J35>K35,"OK","TOMAR MÍNIMO"),0) -> 0 | M35: =IF(L35="OK",J35,K35) -> 0 | R35: =D20 -> 6 | S35: m
B36: Peso específico del acero | C36: γ_acero | D36: 7860 | E36: kg/m^3 | G36: 6 | H36: =IF(G22<=(ROUNDUP($K$11,0)),$D$26,0) -> 0 | I36: =IF(G22<=(ROUNDUP($K$11,0)),I21-(H21/1000),0) -> 0 | J36: =IF(G22<=(ROUNDUP($K$11,0)),((4.9*$D$20)*(I36-0.3))/$D$41,0) -> 0 | K36: =IF(G22<=(ROUNDUP($K$11,0)),$D$25+$D$27,0) -> 0 | L36: =IF(G22<=(ROUNDUP($K$11,0)),IF(J36>K36,"OK","TOMAR MÍNIMO"),0) -> 0 | M36: =IF(L36="OK",J36,K36) -> 0
B37: Material Virolas | C37: A36M | G37: 7 | H37: =IF(G23<=(ROUNDUP($K$11,0)),$D$26,0) -> 0 | I37: =IF(G23<=(ROUNDUP($K$11,0)),I22-(H22/1000),0) -> 0 | J37: =IF(G23<=(ROUNDUP($K$11,0)),((4.9*$D$20)*(I37-0.3))/$D$41,0) -> 0 | K37: =IF(G23<=(ROUNDUP($K$11,0)),$D$25+$D$27,0) -> 0 | L37: =IF(G23<=(ROUNDUP($K$11,0)),IF(J37>K37,"OK","TOMAR MÍNIMO"),0) -> 0 | M37: =IF(L37="OK",J37,K37) -> 0
B38: Tensión de fluencia Yield | C38: Sy | D38: {=INDEX(Auxiliar!D8:G30,Auxiliar!D2,1)} -> 250 | E38: Mpa | G38: 8 | H38: =IF(G24<=(ROUNDUP($K$11,0)),$D$26,0) -> 0 | I38: =IF(G24<=(ROUNDUP($K$11,0)),I23-(H23/1000),0) -> 0 | J38: =IF(G24<=(ROUNDUP($K$11,0)),((4.9*$D$20)*(I38-0.3))/$D$41,0) -> 0 | K38: =IF(G24<=(ROUNDUP($K$11,0)),$D$25+$D$27,0) -> 0 | L38: =IF(G24<=(ROUNDUP($K$11,0)),IF(J38>K38,"OK","TOMAR MÍNIMO"),0) -> 0 | M38: =IF(L38="OK",J38,K38) -> 0
B39: Tensión de rotura | C39: Su | D39: {=INDEX(Auxiliar!D8:G30,Auxiliar!D2,2)} -> 400 | E39: Mpa | G39: 9 | H39: =IF(G25<=(ROUNDUP($K$11,0)),$D$26,0) -> 0 | I39: =IF(G25<=(ROUNDUP($K$11,0)),I24-(H24/1000),0) -> 0 | J39: =IF(G25<=(ROUNDUP($K$11,0)),((4.9*$D$20)*(I39-0.3))/$D$41,0) -> 0 | K39: =IF(G25<=(ROUNDUP($K$11,0)),$D$25+$D$27,0) -> 0 | L39: =IF(G25<=(ROUNDUP($K$11,0)),IF(J39>K39,"OK","TOMAR MÍNIMO"),0) -> 0 | M39: =IF(L39="OK",J39,K39) -> 0
B40: Tensión de diseño Producto | C40: Sd | D40: {=INDEX(Auxiliar!D8:G30,Auxiliar!D2,3)} -> 160 | E40: Mpa | G40: 10 | H40: =IF(G26<=(ROUNDUP($K$11,0)),$D$26,0) -> 0 | I40: =IF(G26<=(ROUNDUP($K$11,0)),I25-(H25/1000),0) -> 0 | J40: =IF(G26<=(ROUNDUP($K$11,0)),((4.9*$D$20)*(I40-0.3))/$D$41,0) -> 0 | K40: =IF(G26<=(ROUNDUP($K$11,0)),$D$25+$D$27,0) -> 0 | L40: =IF(G26<=(ROUNDUP($K$11,0)),IF(J40>K40,"OK","TOMAR MÍNIMO"),0) -> 0 | M40: =IF(L40="OK",J40,K40) -> 0
B41: Tensión de prueba hidrostática | C41: St | D41: {=INDEX(Auxiliar!D8:G30,Auxiliar!D2,4)} -> 171 | E41: Mpa | G41: 11 | H41: =IF(G27<=(ROUNDUP($K$11,0)),$D$26,0) -> 0 | I41: =IF(G27<=(ROUNDUP($K$11,0)),I26-(H26/1000),0) -> 0 | J41: =IF(G27<=(ROUNDUP($K$11,0)),((4.9*$D$20)*(I41-0.3))/$D$41,0) -> 0 | K41: =IF(G27<=(ROUNDUP($K$11,0)),$D$25+$D$27,0) -> 0 | L41: =IF(G27<=(ROUNDUP($K$11,0)),IF(J41>K41,"OK","TOMAR MÍNIMO"),0) -> 0 | M41: =IF(L41="OK",J41,K41) -> 0
B42: Material Techo | C42: A36M | G42: 12 | H42: =IF(G28<=(ROUNDUP($K$11,0)),$D$26,0) -> 0 | I42: =IF(G28<=(ROUNDUP($K$11,0)),I27-(H27/1000),0) -> 0 | J42: =IF(G28<=(ROUNDUP($K$11,0)),((4.9*$D$20)*(I42-0.3))/$D$41,0) -> 0 | K42: =IF(G28<=(ROUNDUP($K$11,0)),$D$25+$D$27,0) -> 0 | L42: =IF(G28<=(ROUNDUP($K$11,0)),IF(J42>K42,"OK","TOMAR MÍNIMO"),0) -> 0 | M42: =IF(L42="OK",J42,K42) -> 0
B43: Tensión de fluencia Yield | C43: Sy | D43: {=INDEX(Auxiliar!D8:G30,Auxiliar!E2,1)} -> 250 | E43: Mpa
B44: Tensión de rotura | C44: Su | D44: {=INDEX(Auxiliar!D8:G30,Auxiliar!E2,2)} -> 400 | E44: Mpa
B45: Tensión de diseño Producto | C45: Sd | D45: {=INDEX(Auxiliar!D8:G30,Auxiliar!E2,3)} -> 160 | E45: Mpa | G45: Espesor final de diseño | L45: Peso de cada virola
...

Sheet Auxiliar
A1: s/n | Q1: Referencias (no modificar) | R1: =(MATCH('CÁLCULO GLOBAL'!I60,Auxiliar!S4:W4,0)) -> 2 | X1: {=MATCH('CÁLCULO GLOBAL'!E175:E175,Auxiliar!X5:X44,0)} -> 1
A2: SI | C2: Referencias (no modificar) | D2: =MATCH('CÁLCULO GLOBAL'!C37,Auxiliar!C8:C30,0) -> 4 | E2: =MATCH('CÁLCULO GLOBAL'!C42,Auxiliar!C8:C30,0) -> 4 | F2: =MATCH('CÁLCULO GLOBAL'!C47,Auxiliar!C8:C30,0) -> 4 | G2: =MATCH('CÁLCULO GLOBAL'!C52,Auxiliar!C8:C30,0) -> 4 | J2: Referencias (no modificar) | K2: =MATCH('CÁLCULO GLOBAL'!D76,Auxiliar!J6:J11,0) -> 5 | L2: =IF('CÁLCULO GLOBAL'!L220<=0.25,COLUMN(K5)-10,IF('CÁLCULO GLOBAL'!L220<=0.5,COLUMN(L5)-10,IF('CÁLCULO GLOBAL'!L220<=0.75,COLUMN(M5)-10,IF('CÁLCULO GLOBAL'!L220<=1,COLUMN(N5)-10,IF(AND('CÁLCULO GLOBAL'!L220>=1,'CÁLCULO GLOBAL'!L220<=1.25),COLUMN(N5)-10,IF('CÁLCULO GLOBAL'!L220>=1.25,COLUMN(O5)-10,"Error")))))) -> 3 | M2: =AND(COLUMN(K6)=K2,ROW(K6)=L2) -> FALSE | Q2: Módulo sección cm^3 de anillos de rigidez / vigas contraviento | X2: {=MATCH('CÁLCULO GLOBAL'!L189:L189,Auxiliar!X5:X44,0)} -> 17
A3: NO | C3: Permissible Plate Materials | J3: Value of Fa | Q3: Tipo de elemento | R3: Dimensiones | S3: Espesor de construcción de la virola
C4: Allowable Stresses (SI) | J4: Site class | K4: Mapped MCER Spectral Response Accelerations at Shor Periods | S4: 5 | T4: 6 | U4: 8 | V4: 10 | W4: 11 | Y4: Lado mayor | Z4: Lado menor | AA4: espesor | AB4: distancia superior | AC4: distancia inferior
A5: SUG | C5: Plate | D5: Minimum | E5: Minimum | F5: Product | G5: Hydrostatic | K5: Ss<=0,25 | L5: Ss=0,5 | M5: Ss=0,75 | N5: Ss=1 | O5: Ss>=1,25 | Q5: Detalle a. Top Angle | R5: 65x65x6 | S5: 6.58 | T5: 6.77 | U5: 0 | V5: 0 | W5: 0 | X5: =_xlfn.CONCAT(Q5,R5) -> Detalle a. Top Angle65x65x6 | Y5: 65 | Z5: 65 | AA5: 6 | AB5: 0 | AC5: =16*AA5 -> 96
A6: I | C6: Specification | D6: Yield Strength Sy | E6: Tensile Strength | F6: Design Stress Sd | G6: Test Stress St | J6: A | K6: 0.8 | L6: 0.8 | M6: 0.8 | N6: 0.8 | O6: 0.8 | Q6: Detalle a. Top Angle | R6: 65x65x8 | S6: 8.46 | T6: 8.63 | U6: 0 | V6: 0 | W6: 0 | X6: =_xlfn.CONCAT(Q6,R6) -> Detalle a. Top Angle65x65x8 | Y6: 65 | Z6: 65 | AA6: 8 | AB6: 0 | AC6: =16*AA6 -> 128
A7: II | D7: (Mpa) | E7: (Mpa) | F7: (Mpa) | G7: (Mpa) | J7: B | K7: 1 | L7: 1 | M7: 1 | N7: 1 | O7: 1 | Q7: Detalle a. Top Angle | R7: 75x75x10 | S7: 13.82 | T7: 13.97 | U7: 0 | V7: 0 | W7: 0 | X7: =_xlfn.CONCAT(Q7,R7) -> Detalle a. Top Angle 75x75x10 | Y7: 75 | Z7: 75 | AA7: 10 | AB7: 0 | AC7: =16*AA7 -> 160
A8: III | C8: A283M grC | D8: 205 | E8: 380 | F8: 137 | G8: 154 | H8: Grupo I | J8: C | K8: 1.2 | L8: 1.2 | M8: 1.1 | N8: 1 | O8: 1 | Q8: Detalle b. Curb Angle | R8: 65x65x6 | S8: 27.03 | T8: 28.16 | U8: 0 | V8: 0 | W8: 0 | X8: =_xlfn.CONCAT(Q8,R8) -> Detalle b. Curb Angle65x65x6 | Y8: 65 | Z8: 65 | AA8: 6 | AB8: 25 | AC8: =16*AA8 -> 96
C9: A285M gr C | D9: 205 | E9: 380 | F9: 137 | G9: 154 | H9: Grupo I | J9: D | K9: 1.6 | L9: 1.4 | M9: 1.2 | N9: 1.1 | O9: 1 | Q9: Detalle b. Curb Angle | R9: 65x65x8 | S9: 33.05 | T9: 34.67 | U9: 0 | V9: 0 | W9: 0 | X9: =_xlfn.CONCAT(Q9,R9) -> Detalle b. Curb Angle65x65x8 | Y9: 65 | Z9: 65 | AA9: 8 | AB9: 25 | AC9: =16*AA9 -> 128
A10: SITE CLASS | C10: A131M gr A, B | D10: 235 | E10: 400 | F10: 157 | G10: 171 | H10: Grupo I | J10: E | K10: 2.5 | L10: 1.7 | M10: 1.2 | N10: 0.9 | O10: 0.9 | Q10: Detalle b. Curb Angle | R10: 75x75x6 | S10: 35.98 | T10: 37.49 | U10: 0 | V10: 0 | W10: 0 | X10: =_xlfn.CONCAT(Q10,R10) -> Detalle b. Curb Angle75x75x6 | Y10: 75 | Z10: 75 | AA10: 6 | AB10: 25 | AC10: =16*AA10 -> 96
A11: A | C11: A36M | D11: 250 | E11: 400 | F11: 160 | G11: 171 | H11: Grupo II | J11: F | K11: Requiere estudio | L11: Requiere estudio | M11: Requiere estudio | N11: Requiere estudio | O11: Requiere estudio | Q11: Detalle b. Curb Angle | R11: 75x75x10 | S11: 47.24 | T11: 53.84 | U11: 0 | V11: 0 | W11: 0 | X11: =_xlfn.CONCAT(Q11,R11) -> Detalle b. Curb Angle75x75x10 | Y11: 75 | Z11: 75 | AA11: 10 | AB11: 25 | AC11: =16*AA11 -> 160
A12: B | C12: A131M EH36 | D12: 360 | E12: 490 | F12: 196 | G12: 210 | H12: Grupo II | Q12: Detalle b. Curb Angle | R12: 100x100x7 | S12: 63.8 | T12: 74.68 | U12: 0 | V12: 0 | W12: 0 | X12: =_xlfn.CONCAT(Q12,R12) -> Detalle b. Curb Angle100x100x7 | Y12: 100 | Z12: 100 | AA12: 7 | AB12: 25 | AC12: =16*AA12 -> 112
A13: C | C13: A573 gr 400 | D13: 220 | E13: 400 | F13: 147 | G13: 165 | H13: Grupo III | J13: Referencias (no modificar) | K13: =MATCH('CÁLCULO GLOBAL'!D76,Auxiliar!J17:J22,0) -> 5 | L13: =IF('CÁLCULO GLOBAL'!L222<=0.1,COLUMN(K16)-10,IF('CÁLCULO GLOBAL'!L222<=0.2,COLUMN(L16)-10,IF('CÁLCULO GLOBAL'!L222<=0.3,COLUMN(M16)-10,IF('CÁLCULO GLOBAL'!L222<=0.4,COLUMN(N16)-10,IF(AND('CÁLCULO GLOBAL'!L222>=0.4,'CÁLCULO GLOBAL'!L222<=0.5),COLUMN(N16)-10,IF('CÁLCULO GLOBAL'!L222>=0.5,COLUMN(O16)-10,"Error")))))) -> 3 | Q13: Detalle b. Curb Angle | R13: 100x100x10 | S13: 71.09 | T13: 87.69 | U13: 0 | V13: 0 | W13: 0 | X13: =_xlfn.CONCAT(Q13,R13) -> Detalle b. Curb Angle100x100x10 | Y13: 100 | Z13: 100 | AA13: 10 | AB13: 25 | AC13: =16*AA13 -> 160
A14: D | C14: A573M gr 450 | D14: 240 | E14: 450 | F14: 160 | G14: 180 | H14: Grupo IV | J14: Value of Fv | Q14: Detalle c. One Angle | R14: 65x65x6 | S14: 28.09 | T14: 29.15 | U14: 30.73 | V14: 32.04 | W14: 32.69 | X14: =_xlfn.CONCAT(Q14,R14) -> Detalle c. One Angle65x65x6 | Y14: 65 | Z14: 65 | AA14: 6 | AB14: =16*AA14 -> 96 | AC14: =16*AA14 -> 96
A15: E | C15: a573m GR 485 | D15: 290 | E15: 485 | F15: 193 | G15: 208 | H15: Grupo IV | J15: Site class | K15: Mapped MCER Spectral Response Accelerations at 1sec Periods | Q15: Detalle c. One Angle | R15: 65x65x8 | S15: 34.63 | T15: 36.2 | U15: 38.51 | V15: 40.32 | W15: 41.17 | X15: =_xlfn.CONCAT(Q15,R15) -> Detalle c. One Angle65x65x8 | Y15: 65 | Z15: 65 | AA15: 8 | AB15: =16*AA15 -> 128 | AC15: =16*AA15 -> 128
A16: F | C16: A516M gr 380 | D16: 205 | E16: 380 | F16: 137 | G16: 154 | H16: Grupo IV | K16: S1<=0,1 | L16: S1=0,20 | M16: S1=0,3 | N16: S1=0,4 | O16: S1>=0,5 | Q16: Detalle c. One Angle | R16: 100x75x7 | S16: 60.59 | T16: 63.21 | U16: 66.88 | V16: 69.48 | W16: 70.59 | X16: =_xlfn.CONCAT(Q16,R16) -> Detalle c. One Angle100x75x7 | Y16: 100 | Z16: 75 | AA16: 7 | AB16: =16*AA16 -> 112 | AC16: =16*AA16 -> 112
C17: A516M gr 415 | D17: 220 | E17: 415 | F17: 147 | G17: 165 | H17: Grupo IV | J17: A | K17: 0.8 | L17: 0.8 | M17: 0.8 | N17: 0.8 | O17: 0.8 | Q17: Detalle c. One Angle | R17: 102x75x8 | S17: 66.97 | T17: 70.08 | U17: 74.49 | V17: 77.6 | W17: 78.9 | X17: =_xlfn.CONCAT(Q17,R17) -> Detalle c. One Angle102x75x8 | Y17: 102 | Z17: 75 | AA17: 8 | AB17: =16*AA17 -> 128 | AC17: =16*AA17 -> 128
A18: Sujeción | C18: A516M gr 450 | D18: 240 | E18: 450 | F18: 160 | G18: 180 | H18: Grupo IV | J18: B | K18: 1 | L18: 1 | M18: 1 | N18: 1 | O18: 1 | Q18: Detalle c. One Angle | R18: 125x75x8 | S18: 89.41 | T18: 93.71 | U18: 99.86 | V18: 104.08 | W18: 105.78 | X18: =_xlfn.CONCAT(Q18,R18) -> Detalle c. One Angle125x75x8 | Y18: 125 | Z18: 75 | AA18: 8 | AB18: =16*AA18 -> 128 | AC18: =16*AA18 -> 128
A19: Mecánicamente anclado | C19: A516M gr 485 | D19: 260 | E19: 485 | F19: 173 | G19: 195 | H19: Grupo IV | J19: C | K19: 1.7 | L19: 1.6 | M19: 1.5 | N19: 1.4 | O19: 1.3 | Q19: Detalle c. One Angle | R19: 125x75x10 | S19: 105.2 | T19: 110.77 | U19: 118.97 | V19: 124.68 | W19: 126.97 | X19: =_xlfn.CONCAT(Q19,R19) -> Detalle c. One Angle125x75x10 | Y19: 125 | Z19: 75 | AA19: 10 | AB19: =16*AA19 -> 160 | AC19: =16*AA19 -> 160
A20: Autoanclado | C20: A662M grB | D20: 275 | E20: 450 | F20: 180 | G20: 193 | H20: Grupo IV | J20: D | K20: 2.4 | L20: 2 | M20: 1.8 | N20: 1.6 | O20: 1.5 | Q20: Detalle c. One Angle | R20: 150x75x10 | S20: 134.14 | T20: 141.38 | U20: 152.24 | V20: 159.79 | W20: 162.78 | X20: =_xlfn.CONCAT(Q20,R20) -> Detalle c. One Angle150x75x10 | Y20: 150 | Z20: 75 | AA20: 10 | AB20: =16*AA20 -> 160 | AC20: =16*AA20 -> 160
C21: A662M grC | D21: 295 | E21: 485 | F21: 194 | G21: 208 | H21: Grupo IVA | J21: E | K21: 3.5 | L21: 3.2 | M21: 2.8 | N21: 2.4 | O21: 2.4 | Q21: Detalle c. One Angle | R21: 150x100x10 | S21: 155.91 | T21: 171.17 | U21: 184.11 | V21: 193.08 | W21: 196.62 | X21: =_xlfn.CONCAT(Q21,R21) -> Detalle c. One Angle150x100x10 | Y21: 150 | Z21: 100 | AA21: 10 | AB21: =16*AA21 -> 160 | AC21: =16*AA21 -> 160
C22: A537M gr1 t<=65 | D22: 345 | E22: 485 | F22: 194 | G22: 208 | H22: Grupo V | J22: F | K22: Requiere estudio | L22: Requiere estudio | M22: Requiere estudio | N22: Requiere estudio | O22: Requiere estudio | Q22: Detalle d. Two Angle | R22: 100x75x8 | S22: 181.22 | T22: 186.49 | U22: 195.15 | V22: 201.83 | W22: 204.62 | X22: =_xlfn.CONCAT(Q22,R22) -> Detalle d. Two Angle100x75x8 | Y22: 100 | Z22: 75 | AA22: 8 | AB22: =16*AA22 -> 128 | AC22: =16*AA22 -> 128
C23: A537M gr1 65<=t<=100 | D23: 310 | E23: 450 | F23: 180 | G23: 193 | H23: Grupo V | Q23: Detalle d. Two Angle | R23: 100x75x10 | S23: 216.81 | T23: 223.37 | U23: 234.55 | V23: 243.41 | W23: 247.16 | X23: =_xlfn.CONCAT(Q23,R23) -> Detalle d. Two Angle100x75x10 | Y23: 100 | Z23: 75 | AA23: 10 | AB23: =16*AA23 -> 160 | AC23: =16*AA23 -> 160
C24: A537M gr2 t<=65 | D24: 415 | E24: 550 | F24: 220 | G24: 236 | H24: Grupo V | Q24: Detalle d. Two Angle | R24: 125x75x8 | S24: 249.17 | T24: 254.84 | U24: 269.59 | V24: 279.39 | W24: 283.45 | X24: =_xlfn.CONCAT(Q24,R24) -> Detalle d. Two Angle125x75x8 | Y24: 125 | Z24: 75 | AA24: 8 | AB24: =16*AA24 -> 128 | AC24: =16*AA24 -> 128
C25: A537M gr2 65<=t<=100 | D25: 380 | E25: 515 | F25: 206 | G25: 221 | H25: Grupo V | J25: LA MODIFICACIÓN DE ESTA HOJA PUEDE CONLLEVAR LA ROTURA DE CÁLCULO PRINCIPAL | Q25: Detalle d. Two Angle | R25: 125x75x10 | S25: 289.77 | T25: 308.17 | U25: 324.4 | V25: 337.32 | W25: 342.77 | X25: =_xlfn.CONCAT(Q25,R25) -> Detalle d. Two Angle125x75x10 | Y25: 125 | Z25: 75 | AA25: 10 | AB25: =16*AA25 -> 160 | AC25: =16*AA25 -> 160
C26: A633M gr C, D t<=65 | D26: 345 | E26: 485 | F26: 194 | G26: 208 | H26: Grupo VI | Q26: Detalle d. Two Angle | R26: 150x75x8 | S26: 324.97 | T26: 335.45 | U26: 353.12 | V26: 366.82 | W26: 372.48 | X26: =_xlfn.CONCAT(Q26,R26) -> Detalle d. Two Angle150x75x8 | Y26: 150 | Z26: 75 | AA26: 8 | AB26: =16*AA26 -> 128 | AC26: =16*AA26 -> 128
C27: A633M gr C, D 65<=t<=100 | D27: 315 | E27: 450 | F27: 180 | G27: 193 | H27: Grupo VI | Q27: Detalle d. Two Angle | R27: 150x75x10 | S27: 390.24 | T27: 402.92 | U27: 425.14 | V27: 443.06 | W27: 450.61 | X27: =_xlfn.CONCAT(Q27,R27) -> Detalle d. Two Angle150x75x10 | Y27: 150 | Z27: 75 | AA27: 10 | AB27: =16*AA27 -> 160 | AC27: =16*AA27 -> 160
C28: A737M gr B | D28: 345 | E28: 485 | F28: 194 | G28: 208 | H28: Grupo VI | Q28: Detalle d. Two Angle | R28: 150x100x10 | S28: 461.11 | T28: 473.57 | U28: 495.62 | V28: 513.69 | W28: 521.41 | X28: =_xlfn.CONCAT(Q28,R28) -> Detalle d. Two Angle150x100x10 | Y28: 150 | Z28: 100 | AA28: 10 | AB28: =16*AA28 -> 160 | AC28: =16*AA28 -> 160
C29: A841M Clase 1, Gr A,B | D29: 345 | E29: 485 | F29: 194 | G29: 208 | H29: Grupo VI | Q29: Detalle e. Formed plate | R29: b=250 | S29: 0 | T29: 341 | U29: 375 | V29: 392 | W29: 399 | X29: =_xlfn.CONCAT(Q29,R29) -> Detalle e. Formed plateb=250 | Y29: 250 | Z29: 65 | AA29: 6 | AB29: =16*AA29 -> 96 | AC29: =16*AA29 -> 96
C30: A841M Clase 2, Gr A,B | D30: 415 | E30: 550 | F30: 220 | G30: 236 | H30: Grupo VI | Q30: Detalle e. Formed plate | R30: b=300 | S30: 0 | T30: 427 | U30: 473 | V30: 496 | W30: 505 | X30: =_xlfn.CONCAT(Q30,R30) -> Detalle e. Formed plateb=300 | Y30: 300 | Z30: 65 | AA30: 6 | AB30: =16*AA30 -> 96 | AC30: =16*AA30 -> 96
Q31: Detalle e. Formed plate | R31: b=350 | S31: 0 | T31: 519 | U31: 577 | V31: 606 | W31: 618 | X31: =_xlfn.CONCAT(Q31,R31) -> Detalle e. Formed plateb=350 | Y31: 350 | Z31: 65 | AA31: 6 | AB31: =16*AA31 -> 96 | AC31: =16*AA31 -> 96
Q32: Detalle e. Formed plate | R32: b=400 | S32: 0 | T32: 615 | U32: 687 | V32: 723 | W32: 737 | X32: =_xlfn.CONCAT(Q32,R32) -> Detalle e. Formed plateb=400 | Y32: 400 | Z32: 65 | AA32: 6 | AB32: =16*AA32 -> 96 | AC32: =16*AA32 -> 96
Q33: Detalle e. Formed plate | R33: b=450 | S33: 0 | T33: 717 | U33: 802 | V33: 846 | W33: 864 | X33: =_xlfn.CONCAT(Q33,R33) -> Detalle e. Formed plateb=450 | Y33: 450 | Z33: 65 | AA33: 6 | AB33: =16*AA33 -> 96 | AC33: =16*AA33 -> 96
Q34: Detalle e. Formed plate | R34: b=500 | S34: 0 | T34: 824 | U34: 923 | V34: 976 | W34: 996 | X34: =_xlfn.CONCAT(Q34,R34) -> Detalle e. Formed plateb=500 | Y34: 500 | Z34: 65 | AA34: 6 | AB34: =16*AA34 -> 96 | AC34: =16*AA34 -> 96
Q35: Detalle e. Formed plate | R35: b=550 | S35: 0 | T35: 937 | U35: 1049 | V35: 1111 | W35: 1135 | X35: =_xlfn.CONCAT(Q35,R35) -> Detalle e. Formed plateb=550 | Y35: 550 | Z35: 65 | AA35: 6 | AB35: =16*AA35 -> 96 | AC35: =16*AA35 -> 96
C36: Referencias (no modificar) | F36: =MATCH('CÁLCULO GLOBAL'!S137,Auxiliar!E40:E56,0) -> 1 | K36: Referencias (no modificar) | L36: =IF('CÁLCULO GLOBAL'!L225<0.33,1,2) -> 2 | M36: =MATCH('CÁLCULO GLOBAL'!D75,Auxiliar!L38:N38,) -> 1 | Q36: Detalle e. Formed plate | R36: b=600 | S36: 0 | T36: 1054 | U36: 1181 | V36: 1252 | W36: 1280 | X36: =_xlfn.CONCAT(Q36,R36) -> Detalle e. Formed plateb=600 | Y36: 600 | Z36: 65 | AA36: 6 | AB36: =16*AA36 -> 96 | AC36: =16*AA36 -> 96
C37: Diámetro del perno | F37: "Ap" Área del núcleo el perno (cm2) | G37: Ver figura anterior con los detalles de “clearance” y “excentricidad” | I37: "N" Número de pernos recomendado (Ud) | K37: Value of SDS | L37: SUG | Q37: Detalle e. Formed plate | R37: b=650 | S37: 0 | T37: 1176 | U37: 1317 | V37: 1399 | W37: 1432 | X37: =_xlfn.CONCAT(Q37,R37) -> Detalle e. Formed plateb=650 | Y37: 650 | Z37: 65 | AA37: 6 | AB37: =16*AA37 -> 96 | AC37: =16*AA37 -> 96
C38: Pulgadas | D38: mm | E38: Métrica | G38: Clearance (mm) | H38: Excentricidad (mm) | L38: I | M38: II | N38: III | Q38: Detalle e. Formed plate | R38: b=700 | S38: 0 | T38: 1304 | U38: 1459 | V38: 1551 | W38: 1589 | X38: =_xlfn.CONCAT(Q38,R38) -> Detalle e. Formed plateb=700 | Y38: 700 | Z38: 65 | AA38: 6 | AB38: =16*AA38 -> 96 | AC38: =16*AA38 -> 96
E39: comercial | K39: SDS<0,33g | L39: 0,7δs (recomendado pero no requerido) | M39: 0,7δs (recomendado pero no requerido) | N39: δs requerido, salvo que tengamos un contenedor secundario o el tanque esté diseñado para contener derrames | Q39: Detalle e. Formed plate | R39: b=750 | S39: 0 | T39: 1436 | U39: 1607 | V39: 1709 | W39: 1752 | X39: =_xlfn.CONCAT(Q39,R39) -> Detalle e. Formed plateb=750 | Y39: 750 | Z39: 65 | AA39: 6 | AB39: =16*AA39 -> 96 | AC39: =16*AA39 -> 96
C40: 1/2" | D40: 12.7 | E40: M 14 | F40: 0.81 | G40: 16 | H40: 23 | I40: 13 | K40: SDS>=0,33g | L40: 0,7δs (recomendado pero no requerido) | M40: 0,7δs requerido, Salvo que tengamos un contenedor secundario o el tanque esté diseñado para contener derrames | N40: δs requerido, salvo que tengamos un contenedor secundario o el tanque esté diseñado para contener derrames | Q40: Detalle e. Formed plate | R40: b=800 | S40: 0 | T40: 1573 | U40: 1759 | V40: 1873 | W40: 1921 | X40: =_xlfn.CONCAT(Q40,R40) -> Detalle e. Formed plateb=800 | Y40: 800 | Z40: 65 | AA40: 6 | AB40: =16*AA40 -> 96 | AC40: =16*AA40 -> 96
...
